BEGIN:VCALENDAR
VERSION:2.0
PRODID:CAPEIA ARRAIANA MALHADA SORDA
X-WR-CALNAME:CAPEIA ARRAIANA MALHADA SORDA
X-WR-TIMEZONE:Europe/Lisbon
X-PUBLISHED-TTL:P1W
BEGIN:VTIMEZONE
TZID:Europe/Lisbon
X-LIC-LOCATION:Europe/Lisbon
END:VTIMEZONE
BEGIN:VEVENT
UID:69e4d770b1280
DTSTART;VALUE=DATE:20210826
SEQUENCE:0
TRANSP:OPAQUE
DTEND;VALUE=DATE:20210827
SUMMARY:CAPEIA ARRAIANA MALHADA SORDA
CLASS:PUBLIC
DESCRIPTION:CAPEIA ARRAIANA MALHADA SORDA: entre o 26 e 28 de agosto
X-MICROSOFT-CDO-ALLDAYEVENT:TRUE
DTSTAMP:20260419T132400Z
END:VEVENT
END:VCALENDAR